BEGIN:VCALENDAR
VERSION:2.0
PRODID:-//VFW Post 7814 - ECPv6.15.20//NONSGML v1.0//EN
CALSCALE:GREGORIAN
METHOD:PUBLISH
X-ORIGINAL-URL:https://vfwstaunton7814.com
X-WR-CALDESC:Events for VFW Post 7814
REFRESH-INTERVAL;VALUE=DURATION:PT1H
X-Robots-Tag:noindex
X-PUBLISHED-TTL:PT1H
BEGIN:VTIMEZONE
TZID:UTC
BEGIN:STANDARD
TZOFFSETFROM:+0000
TZOFFSETTO:+0000
TZNAME:UTC
DTSTART:20240101T000000
END:STANDARD
END:VTIMEZONE
BEGIN:VTIMEZONE
TZID:America/New_York
BEGIN:DAYLIGHT
TZOFFSETFROM:-0500
TZOFFSETTO:-0400
TZNAME:EDT
DTSTART:20250309T070000
END:DAYLIGHT
BEGIN:STANDARD
TZOFFSETFROM:-0400
TZOFFSETTO:-0500
TZNAME:EST
DTSTART:20251102T060000
END:STANDARD
BEGIN:DAYLIGHT
TZOFFSETFROM:-0500
TZOFFSETTO:-0400
TZNAME:EDT
DTSTART:20260308T070000
END:DAYLIGHT
BEGIN:STANDARD
TZOFFSETFROM:-0400
TZOFFSETTO:-0500
TZNAME:EST
DTSTART:20261101T060000
END:STANDARD
BEGIN:DAYLIGHT
TZOFFSETFROM:-0500
TZOFFSETTO:-0400
TZNAME:EDT
DTSTART:20270314T070000
END:DAYLIGHT
BEGIN:STANDARD
TZOFFSETFROM:-0400
TZOFFSETTO:-0500
TZNAME:EST
DTSTART:20271107T060000
END:STANDARD
END:VTIMEZONE
BEGIN:VEVENT
DTSTART;TZID=UTC:20250920T100000
DTEND;TZID=UTC:20250920T110000
DTSTAMP:20260420T034622
CREATED:20250718T035240Z
LAST-MODIFIED:20250718T035240Z
UID:510-1758362400-1758366000@vfwstaunton7814.com
SUMMARY:Monthly Meeting
DESCRIPTION:Air Force birthday celebration
URL:https://vfwstaunton7814.com/event/monthly-meeting-3/
LOCATION:VFW Post 7814\, 815 North Augusta Street\, Staunton\, VA\, 24401\, United States
ATTACH;FMTTYPE=image/jpeg:https://vfwstaunton7814.com/wp-content/uploads/2025/07/pOST-7814-LOGO.jpg
END:VEVENT
BEGIN:VEVENT
DTSTART;TZID=UTC:20250920T120000
DTEND;TZID=UTC:20250920T180000
DTSTAMP:20260420T034622
CREATED:20250725T122032Z
LAST-MODIFIED:20250725T122032Z
UID:751-1758369600-1758391200@vfwstaunton7814.com
SUMMARY:African-American Heritage and Multicultural Festival
DESCRIPTION:We will have a booth. \nThe festival will include live music\, storytelling\, cultural enrichment experiences for students and families\, cultural dancing\, a variety of foods\, crafts from local and regional artisans\, and other family-friendly activities such as face painting\, health screenings and community resources. All events are free and fully accessible.
URL:https://vfwstaunton7814.com/event/african-american-heritage-and-multicultural-festival/
LOCATION:Stonewall Brigade Bandstand\, Constitution Dr\, Staunton\, VA\, 24401\, United States
ATTACH;FMTTYPE=image/jpeg:https://vfwstaunton7814.com/wp-content/uploads/2025/07/A-A-fest.jpg
END:VEVENT
BEGIN:VEVENT
DTSTART;VALUE=DATE:20250929
DTEND;VALUE=DATE:20250930
DTSTAMP:20260420T034622
CREATED:20250725T051608Z
LAST-MODIFIED:20250725T115126Z
UID:746-1759104000-1759190399@vfwstaunton7814.com
SUMMARY:VFW Day
DESCRIPTION:We will celebrate at the Sept meeting
URL:https://vfwstaunton7814.com/event/vfw-day/
LOCATION:VA
ATTACH;FMTTYPE=image/png:https://vfwstaunton7814.com/wp-content/uploads/2024/04/cropped-VFW-Logo-RGB-large.png
END:VEVENT
BEGIN:VEVENT
DTSTART;TZID=UTC:20251013T160000
DTEND;TZID=UTC:20251013T180000
DTSTAMP:20260420T034622
CREATED:20250718T032834Z
LAST-MODIFIED:20251006T130700Z
UID:489-1760371200-1760378400@vfwstaunton7814.com
SUMMARY:250th Navy Birthday
DESCRIPTION:District 11 Event at Post 2216 in Staunton\nCapt. John Paul Jones\, Father of the American Navy \n(became a Real Admiral in the Russian Imperial Navy later) \n 
URL:https://vfwstaunton7814.com/event/250th-navy-birthday/
LOCATION:VFW Post 2216\, 212 Frontier Dr\, Staunton\, VA\, 22401\, United States
ATTACH;FMTTYPE=image/jpeg:https://vfwstaunton7814.com/wp-content/uploads/2025/07/250-years-Navy.jpg
END:VEVENT
BEGIN:VEVENT
DTSTART;TZID=UTC:20251015T150000
DTEND;TZID=UTC:20251015T180000
DTSTAMP:20260420T034622
CREATED:20251008T125823Z
LAST-MODIFIED:20251008T125823Z
UID:831-1760540400-1760551200@vfwstaunton7814.com
SUMMARY:Veterans Fair
DESCRIPTION:
URL:https://vfwstaunton7814.com/event/veterans-fair/
LOCATION:Augusta County Government Center\, 18 Government Center Lane\, Verona\, VA\, 24482\, United States
END:VEVENT
BEGIN:VEVENT
DTSTART;TZID=UTC:20251018T100000
DTEND;TZID=UTC:20251018T110000
DTSTAMP:20260420T034622
CREATED:20250718T035947Z
LAST-MODIFIED:20250718T040328Z
UID:514-1760781600-1760785200@vfwstaunton7814.com
SUMMARY:Monthly Meeting
DESCRIPTION:Navy birthday cake
URL:https://vfwstaunton7814.com/event/monthly-meeting-4/
LOCATION:VFW Post 7814\, 815 North Augusta Street\, Staunton\, VA\, 24401\, United States
ATTACH;FMTTYPE=image/jpeg:https://vfwstaunton7814.com/wp-content/uploads/2025/07/pOST-7814-LOGO-1.jpg
END:VEVENT
BEGIN:VEVENT
DTSTART;TZID=UTC:20251107T140000
DTEND;TZID=UTC:20251107T160000
DTSTAMP:20260420T034622
CREATED:20251008T130301Z
LAST-MODIFIED:20251020T201017Z
UID:836-1762524000-1762531200@vfwstaunton7814.com
SUMMARY:Fallen Comrade Ceremony
DESCRIPTION: 
URL:https://vfwstaunton7814.com/event/fallen-comrade-ceremony/
LOCATION:Augusta Expo\, 277 Expo Rd\, Building 3\, Fisherville\, VA\, 22939\, United States
ATTACH;FMTTYPE=image/jpeg:https://vfwstaunton7814.com/wp-content/uploads/2025/10/IMG_0041.jpeg
END:VEVENT
BEGIN:VEVENT
DTSTART;TZID=UTC:20251108T111100
DTEND;TZID=UTC:20251108T120000
DTSTAMP:20260420T034622
CREATED:20250718T043056Z
LAST-MODIFIED:20251020T191236Z
UID:525-1762600260-1762603200@vfwstaunton7814.com
SUMMARY:Staunton Veterans Day Parade\, Nov 8\, Meet at 10am
DESCRIPTION:Meet at 10am in the parking lot near Howard Johnson’s. Wear your service uniform or VFW “uniform”. \nThe 2025 Staunton Veterans Day Parade will be held on Saturday\, November 8\, in downtown Staunton\, VA. The parade will begin at the corner of North Market Street and East Beverley Street\, proceeding west on Beverley Street to the disband point on North Lewis Street\, according to WQSV. The parade will include members of the VFW\, American Legion\, other veterans\, Honor Guard\, and community organizations\, according to WQSV.
URL:https://vfwstaunton7814.com/event/staunton-veterans-day-parade/
LOCATION:VA
ATTACH;FMTTYPE=image/jpeg:https://vfwstaunton7814.com/wp-content/uploads/2025/07/Veterans-Day-parade-1-1.jpg
END:VEVENT
BEGIN:VEVENT
DTSTART;VALUE=DATE:20251110
DTEND;VALUE=DATE:20251111
DTSTAMP:20260420T034622
CREATED:20250718T033954Z
LAST-MODIFIED:20250718T034434Z
UID:499-1762732800-1762819199@vfwstaunton7814.com
SUMMARY:Marine Corps Birthday
DESCRIPTION:We will have cake at the post meeting.\nWhy does the Marine Corps have 2 birthdays? The Marine Corps has two birthdays because it was initially established on November 10\, 1775\, by the Second Continental Congress\, and then re-established on July 11\, 1798. While both dates are significant\, the Corps officially celebrates its birthday on November 10th\, the date of its initial founding\, to honor its long history and tradition. \nFor a long period (from 1799 until 1921)\, the Marine Corps celebrated its birthday on July 11\, commemorating the date of its re-establishment. However\, in 1921\, Marine Corps Order No. 47 was issued\, changing the official birthday celebration to November 10th\, to recognize the original founding during the Revolutionary War. 
URL:https://vfwstaunton7814.com/event/marine-corps-birthday/
LOCATION:VA
ATTACH;FMTTYPE=image/jpeg:https://vfwstaunton7814.com/wp-content/uploads/2025/07/marine-corps-birthday-cake.jpg
END:VEVENT
BEGIN:VEVENT
DTSTART;TZID=UTC:20251110T090000
DTEND;TZID=UTC:20251110T103000
DTSTAMP:20260420T034623
CREATED:20250725T120325Z
LAST-MODIFIED:20251020T195002Z
UID:748-1762765200-1762770600@vfwstaunton7814.com
SUMMARY:Nursing Home Drive-By
DESCRIPTION:  \nWith motorcycles\, Jeeps\, Mustangs\, Corvettes\, military vehicles\, police\, and fire trucks- we will drive by nursing homes to send some Veterans Day joy. \nLineup at 0900\, roll out at 0930.
URL:https://vfwstaunton7814.com/event/nursing-home-drive-by/
LOCATION:Gypsy Hill Park stadium parking lot\, 116th Regimental Drive\, Staunton\, 24401\, United States
ATTACH;FMTTYPE=image/jpeg:https://vfwstaunton7814.com/wp-content/uploads/2025/07/IMG_1273-scaled.jpeg
ORGANIZER;CN="VFW Post 7814":MAILTO:info@vfwstaunton7814.com
END:VEVENT
BEGIN:VEVENT
DTSTART;TZID=UTC:20251110T104500
DTEND;TZID=UTC:20251110T133000
DTSTAMP:20260420T034623
CREATED:20251020T191637Z
LAST-MODIFIED:20251020T193428Z
UID:853-1762771500-1762781400@vfwstaunton7814.com
SUMMARY:Fort Defiance High School FFA Veterans Day Celebration
DESCRIPTION:Join Fort Defiance FFA & FCCLA for a Veterans Day celebration. Guest Speaker John C. Edgecomb\, LTC\, US Army (Ret.). Veterans should arrive by 10:45 at Fort Defiance High School main office. School wide assembly at 11:15. Lunch follows the assembly. \nRSVP to Christy Kerr by November 4\, 2025. Ckerr@augusta.k12.va.us or 540-245-5050
URL:https://vfwstaunton7814.com/event/fort-defiance-ffa-veterans-day-celebration/
LOCATION:Fort Defiance High School\, 195 Fort Defiance Rd\, Fort Defiance\, VA\, 24437\, United States
ATTACH;FMTTYPE=image/jpeg:https://vfwstaunton7814.com/wp-content/uploads/2025/10/IMG_0039-scaled.jpeg
END:VEVENT
BEGIN:VEVENT
DTSTART;VALUE=DATE:20251111
DTEND;VALUE=DATE:20251112
DTSTAMP:20260420T034623
CREATED:20250718T032154Z
LAST-MODIFIED:20250718T032154Z
UID:486-1762819200-1762905599@vfwstaunton7814.com
SUMMARY:Veterans' Day
DESCRIPTION:Activities to be determined
URL:https://vfwstaunton7814.com/event/veterans-day/
LOCATION:VA
ATTACH;FMTTYPE=image/webp:https://vfwstaunton7814.com/wp-content/uploads/2025/07/Veterans-Day-GettyImages-1423034736_vp1.webp
END:VEVENT
BEGIN:VEVENT
DTSTART;TZID=UTC:20251122T100000
DTEND;TZID=UTC:20251122T230000
DTSTAMP:20260420T034623
CREATED:20250718T041039Z
LAST-MODIFIED:20250718T041039Z
UID:523-1763805600-1763852400@vfwstaunton7814.com
SUMMARY:Proposed November Monthly Meeting
DESCRIPTION:The meeting would normally be Nov 22
URL:https://vfwstaunton7814.com/event/proposed-november-monthly-meeting/
LOCATION:VFW Post 7814\, 815 North Augusta Street\, Staunton\, VA\, 24401\, United States
ATTACH;FMTTYPE=image/jpeg:https://vfwstaunton7814.com/wp-content/uploads/2025/07/pOST-7814-LOGO-1.jpg
END:VEVENT
BEGIN:VEVENT
DTSTART;TZID=UTC:20251213T120000
DTEND;TZID=UTC:20251213T133000
DTSTAMP:20260420T034623
CREATED:20250718T044955Z
LAST-MODIFIED:20250718T045648Z
UID:531-1765627200-1765632600@vfwstaunton7814.com
SUMMARY:Wreaths Across America
DESCRIPTION:This year\, National Wreaths Across America Day will be held on Saturday\, December 13\, 2025. Join the more than two million volunteers and supporters who will gather to Remember\, Honor and Teach at more than 4\,900 participating locations in all 50 states\, at sea and abroad.
URL:https://vfwstaunton7814.com/event/wreaths-across-america/
LOCATION:Staunton National Cemetary\, 901 Richmond Rd\, Staunton\, VA\, 24401\, United States
ATTACH;FMTTYPE=image/jpeg:https://vfwstaunton7814.com/wp-content/uploads/2025/07/wreaths-banner.jpg
END:VEVENT
BEGIN:VEVENT
DTSTART;VALUE=DATE:20260108
DTEND;VALUE=DATE:20260112
DTSTAMP:20260420T034623
CREATED:20250725T124225Z
LAST-MODIFIED:20250725T124350Z
UID:755-1767830400-1768175999@vfwstaunton7814.com
SUMMARY:Dept of Virginia Winter Council
DESCRIPTION:Patriot Pen and Voice of Democracy state awards will be presented.
URL:https://vfwstaunton7814.com/event/dept-of-virginia-winter-council/
LOCATION:Hotel Madison\, 710 S Main St Ste 149\, Harrisonburg\, VA\, 22801\, United States
ATTACH;FMTTYPE=image/png:https://vfwstaunton7814.com/wp-content/uploads/2024/04/cropped-VFW-Logo-RGB-large.png
END:VEVENT
BEGIN:VEVENT
DTSTART;TZID=America/New_York:20260328T083000
DTEND;TZID=America/New_York:20260328T120000
DTSTAMP:20260420T034623
CREATED:20260322T143729Z
LAST-MODIFIED:20260322T144000Z
UID:875-1774686600-1774699200@vfwstaunton7814.com
SUMMARY:Eggtravaganza (Parks & Rec)
DESCRIPTION:We have been asked to help out with this annual easter egg hunt. \nJoin us for our Annual Egg Hunt and Eggstravaganza Festival complete with moon bounce\, old-fashioned egg coloring\, refreshments\, arts and crafts activities\, face painting\, and surprise entertainers. BYOB (bring your own basket). Free event! \nEgg Hunt Ages/Times:\n\n2 & 3 years: 10am\n4 & 5 years: 10:30am\n6 & 7 years: 11am\n8 to 10 years: 11:30am
URL:https://vfwstaunton7814.com/event/eggtravaganza-parks-rec/
LOCATION:Montgomery Hall Park\, 1000 Montgomery Ave\, Staunton\, VA\, 24401\, United States
CATEGORIES:Staunton Parks and Recreation
ATTACH;FMTTYPE=image/jpeg:https://vfwstaunton7814.com/wp-content/uploads/2026/03/easter-egg-hunt-scaled.jpg
END:VEVENT
BEGIN:VEVENT
DTSTART;TZID=America/New_York:20260410T163000
DTEND;TZID=America/New_York:20260410T180000
DTSTAMP:20260420T034623
CREATED:20260322T145447Z
LAST-MODIFIED:20260322T145447Z
UID:880-1775838600-1775844000@vfwstaunton7814.com
SUMMARY:Staunton Military Academy Memorial Wall ceremony to honor Capt. William Green
DESCRIPTION:The SMA Alumni Foundation Board of Directors\, meeting via teleconference on Dec. 8th\, accepted the recommendations\nof the Memorial Wall Judging Committee and voted to place Warren Hutton SMA ’75\, Capt. William W. Greene Sr.\, USA-Ret. And Walter “Chick” Crawford on the museum’s Memorial Wall.\nPlaques highlighting their lives and achievements will be recognized at the Memorial Wall ceremony during the SMA reunion on\nFriday April 10th.\nHutton was part of the next-to-last class to graduate from SMA\, where he led in academic\, military\,\nand athletic pursuit. He had a successful career in law and in business\, and he was a leader in community\nactivities.\nCapt. Green was one of the original Army “Buffalo Soldiers” who became an officer during World War I. His heroic actions as a company commander were later recognized with the award of the Distinguished Service Cross and Silver Star for valor on the battlefield in France in October 1918.\nChick Crawford spent almost 50 years serving all the cadets who passed through the SMA Mess Hall. He rose from dishwasher to manage the facility. Chick was well-known and liked by all the surviving alumni of the academy.
URL:https://vfwstaunton7814.com/event/staunton-military-academy-memorial-wall-ceremony-to-honor-capt-william-green/
LOCATION:Mary Baldwin Univeristy\, 101 E Frederick St\, Staunton\, VA\, 24401\, United States
CATEGORIES:Ceremony
ATTACH;FMTTYPE=image/jpeg:https://vfwstaunton7814.com/wp-content/uploads/2026/03/SMA.jpeg
END:VEVENT
BEGIN:VEVENT
DTSTART;TZID=America/New_York:20260418T100000
DTEND;TZID=America/New_York:20260418T110000
DTSTAMP:20260420T034623
CREATED:20260329T154648Z
LAST-MODIFIED:20260329T154954Z
UID:885-1776506400-1776510000@vfwstaunton7814.com
SUMMARY:Post and Auxiliary Meeting
DESCRIPTION:Please join us for our monthly meetings\, including elections for the Post this month
URL:https://vfwstaunton7814.com/event/post-and-auxiliary-meeting/
LOCATION:VFW Post 7814\, 815 North Augusta Street\, Staunton\, VA\, 24401\, United States
ATTACH;FMTTYPE=image/jpeg:https://vfwstaunton7814.com/wp-content/uploads/2025/07/pOST-7814-LOGO-2.jpg
ORGANIZER;CN="VFW Post 7814":MAILTO:info@vfwstaunton7814.com
END:VEVENT
BEGIN:VEVENT
DTSTART;TZID=America/New_York:20260425T090000
DTEND;TZID=America/New_York:20260425T170000
DTSTAMP:20260420T034623
CREATED:20260329T162020Z
LAST-MODIFIED:20260329T163909Z
UID:890-1777107600-1777136400@vfwstaunton7814.com
SUMMARY:Recruiting at Showmaster Gun Show - Day 1
DESCRIPTION:
URL:https://vfwstaunton7814.com/event/recruiting-at-showmaster-gun-show-day-1/
LOCATION:Augusta Expo\, 277 Expo Rd\, Building 3\, Fisherville\, VA\, 22939\, United States
ATTACH;FMTTYPE=image/jpeg:https://vfwstaunton7814.com/wp-content/uploads/2026/03/gun-show.jpeg
END:VEVENT
BEGIN:VEVENT
DTSTART;TZID=America/New_York:20260425T100000
DTEND;TZID=America/New_York:20260425T120000
DTSTAMP:20260420T034623
CREATED:20260329T161514Z
LAST-MODIFIED:20260329T161514Z
UID:887-1777111200-1777118400@vfwstaunton7814.com
SUMMARY:District 11 Meeting
DESCRIPTION:VFW Post 7814 is part of District 11. Col. Melissa Patrick is District Commander
URL:https://vfwstaunton7814.com/event/district-11-meeting-2/
LOCATION:VFW Post 8644\, 118 Dry River Rd.\, Bridgewater\, VA\, 22812\, United States
ATTACH;FMTTYPE=image/png:https://vfwstaunton7814.com/wp-content/uploads/2024/04/cropped-vfw-2-logo-png-transparent.png
END:VEVENT
BEGIN:VEVENT
DTSTART;TZID=America/New_York:20260426T100000
DTEND;TZID=America/New_York:20260426T170000
DTSTAMP:20260420T034623
CREATED:20260329T162249Z
LAST-MODIFIED:20260329T163838Z
UID:893-1777197600-1777222800@vfwstaunton7814.com
SUMMARY:Recruiting at Gunmaster Gun Show Day 2
DESCRIPTION:
URL:https://vfwstaunton7814.com/event/recruiting-at-gunmaster-gun-show-day-2/
LOCATION:Augusta Expo\, 277 Expo Rd\, Building 3\, Fisherville\, VA\, 22939\, United States
ATTACH;FMTTYPE=image/jpeg:https://vfwstaunton7814.com/wp-content/uploads/2026/03/gun-show.jpeg
END:VEVENT
BEGIN:VEVENT
DTSTART;TZID=America/New_York:20260502T073000
DTEND;TZID=America/New_York:20260502T110000
DTSTAMP:20260420T034623
CREATED:20260329T163013Z
LAST-MODIFIED:20260329T163053Z
UID:895-1777707000-1777719600@vfwstaunton7814.com
SUMMARY:32nd Annual Youth Fishing Derby - VFW Day of Service
DESCRIPTION:Post 7814 will provide concessions and help with registration. Registration is at 7:30\, derby is 8:00 – 11:00\, we set up around 7:00
URL:https://vfwstaunton7814.com/event/32nd-annual-youth-fishing-derby-vfw-day-of-service/
LOCATION:Gypsy Hill Park stadium parking lot\, 116th Regimental Drive\, Staunton\, 24401\, United States
ATTACH;FMTTYPE=image/jpeg:https://vfwstaunton7814.com/wp-content/uploads/2025/07/487216038_1071829018308856_400247614205142663_n.jpg
END:VEVENT
BEGIN:VEVENT
DTSTART;TZID=America/New_York:20260516T073000
DTEND;TZID=America/New_York:20260516T110000
DTSTAMP:20260420T034623
CREATED:20260329T163341Z
LAST-MODIFIED:20260329T163700Z
UID:897-1778916600-1778929200@vfwstaunton7814.com
SUMMARY:21st Annual Seniors Fishing Derby
DESCRIPTION:Post 7814 will provide concessions
URL:https://vfwstaunton7814.com/event/21st-annual-seniors-fishing-derby/
LOCATION:Gypsy Hill Park stadium parking lot\, 116th Regimental Drive\, Staunton\, 24401\, United States
ATTACH;FMTTYPE=image/jpeg:https://vfwstaunton7814.com/wp-content/uploads/2026/03/487298998_1072036864954738_1034747514463003350_n.jpg
END:VEVENT
BEGIN:VEVENT
DTSTART;TZID=America/New_York:20260522T090000
DTEND;TZID=America/New_York:20260522T170000
DTSTAMP:20260420T034623
CREATED:20260331T133516Z
LAST-MODIFIED:20260331T134016Z
UID:906-1779440400-1779469200@vfwstaunton7814.com
SUMMARY:Buddy Poppies May 22
DESCRIPTION:We distribute buddy poppies at Lowes Staunton
URL:https://vfwstaunton7814.com/event/buddy-poppies/
LOCATION:Lowes\, 1028D Richmond Rd\, Staunton\, VA\, 24401\, United States
ATTACH;FMTTYPE=image/jpeg:https://vfwstaunton7814.com/wp-content/uploads/2026/03/buddy-poppy.jpeg
ORGANIZER;CN="VFW Post 7814":MAILTO:info@vfwstaunton7814.com
END:VEVENT
BEGIN:VEVENT
DTSTART;TZID=America/New_York:20260523T090000
DTEND;TZID=America/New_York:20260523T170000
DTSTAMP:20260420T034624
CREATED:20260331T133930Z
LAST-MODIFIED:20260331T133944Z
UID:909-1779526800-1779555600@vfwstaunton7814.com
SUMMARY:Buddy Poppies May 23
DESCRIPTION:We distribute Buddy Poppies at Lowes Staunton
URL:https://vfwstaunton7814.com/event/buddy-poppies-2/
LOCATION:Lowes\, 1028D Richmond Rd\, Staunton\, VA\, 24401\, United States
ATTACH;FMTTYPE=image/jpeg:https://vfwstaunton7814.com/wp-content/uploads/2026/03/buddy-poppy.jpeg
ORGANIZER;CN="VFW Post 7814":MAILTO:info@vfwstaunton7814.com
END:VEVENT
BEGIN:VEVENT
DTSTART;TZID=America/New_York:20260525T100000
DTEND;TZID=America/New_York:20260525T120000
DTSTAMP:20260420T034624
CREATED:20260331T135009Z
LAST-MODIFIED:20260331T140212Z
UID:916-1779703200-1779710400@vfwstaunton7814.com
SUMMARY:2026 Memorial Day Ceremony
DESCRIPTION:We participate in the ceremony / present a wreath. In case of rain\, the ceremony is at the American Legion hall
URL:https://vfwstaunton7814.com/event/2026-memorial-day-ceremony/
LOCATION:Gypsy Hill Park Bandstand\, 600 Churchville Ave\, Staunton\, VA\, United States
ATTACH;FMTTYPE=image/jpeg:https://vfwstaunton7814.com/wp-content/uploads/2026/03/Memorial-day-staunton.jpeg
END:VEVENT
BEGIN:VEVENT
DTSTART;TZID=America/New_York:20260525T100000
DTEND;TZID=America/New_York:20260525T170000
DTSTAMP:20260420T034624
CREATED:20260331T134327Z
LAST-MODIFIED:20260331T134327Z
UID:914-1779703200-1779728400@vfwstaunton7814.com
SUMMARY:Buddy Poppies May 25
DESCRIPTION:We will distribute buddy poppies at Lowes
URL:https://vfwstaunton7814.com/event/buddy-poppies-may-25/
LOCATION:Lowes\, 1028D Richmond Rd\, Staunton\, VA\, 24401\, United States
ATTACH;FMTTYPE=image/jpeg:https://vfwstaunton7814.com/wp-content/uploads/2026/03/buddy-poppy.jpeg
ORGANIZER;CN="VFW Post 7814":MAILTO:info@vfwstaunton7814.com
END:VEVENT
END:VCALENDAR